BEGIN:VCALENDAR
VERSION:2.0
PRODID:-//International Red Brangus Breeders Association - ECPv6.15.15//NONSGML v1.0//EN
CALSCALE:GREGORIAN
METHOD:PUBLISH
X-WR-CALNAME:International Red Brangus Breeders Association
X-ORIGINAL-URL:https://redbrangus.org
X-WR-CALDESC:Events for International Red Brangus Breeders Association
REFRESH-INTERVAL;VALUE=DURATION:PT1H
X-Robots-Tag:noindex
X-PUBLISHED-TTL:PT1H
BEGIN:VTIMEZONE
TZID:America/Chicago
BEGIN:DAYLIGHT
TZOFFSETFROM:-0600
TZOFFSETTO:-0500
TZNAME:CDT
DTSTART:20230312T080000
END:DAYLIGHT
BEGIN:STANDARD
TZOFFSETFROM:-0500
TZOFFSETTO:-0600
TZNAME:CST
DTSTART:20231105T070000
END:STANDARD
BEGIN:DAYLIGHT
TZOFFSETFROM:-0600
TZOFFSETTO:-0500
TZNAME:CDT
DTSTART:20240310T080000
END:DAYLIGHT
BEGIN:STANDARD
TZOFFSETFROM:-0500
TZOFFSETTO:-0600
TZNAME:CST
DTSTART:20241103T070000
END:STANDARD
BEGIN:DAYLIGHT
TZOFFSETFROM:-0600
TZOFFSETTO:-0500
TZNAME:CDT
DTSTART:20250309T080000
END:DAYLIGHT
BEGIN:STANDARD
TZOFFSETFROM:-0500
TZOFFSETTO:-0600
TZNAME:CST
DTSTART:20251102T070000
END:STANDARD
END:VTIMEZONE
BEGIN:VEVENT
DTSTART;TZID=America/Chicago:20240206T080000
DTEND;TZID=America/Chicago:20240206T170000
DTSTAMP:20260419T200022
CREATED:20231210T230630Z
LAST-MODIFIED:20231210T231308Z
UID:2763-1707206400-1707238800@redbrangus.org
SUMMARY:FLORIDA STATE FAIR AND OPEN BRANGUS SHOW\, SOE SHOW
DESCRIPTION:
URL:https://redbrangus.org/event-calendar/open-show-houston-livestock-show-and-rodeo-entry-deadline/
END:VEVENT
BEGIN:VEVENT
DTSTART;TZID=America/Chicago:20240113T130000
DTEND;TZID=America/Chicago:20240113T170000
DTSTAMP:20260419T200022
CREATED:20231210T230434Z
LAST-MODIFIED:20231210T234336Z
UID:2760-1705150800-1705165200@redbrangus.org
SUMMARY:REDLAND CATTLE SECOND ANNUAL BULL AND FEMALE
DESCRIPTION:
URL:https://redbrangus.org/event-calendar/redland-cattle-second-annual-bull-and-female/
LOCATION:REDLAND CATTLE\, 32357 FM 410\, BAGWELL\, TX\, 75412\, United States
END:VEVENT
BEGIN:VEVENT
DTSTART;TZID=America/Chicago:20240111T080000
DTEND;TZID=America/Chicago:20240111T170000
DTSTAMP:20260419T200022
CREATED:20231210T204430Z
LAST-MODIFIED:20231210T204430Z
UID:2756-1704960000-1704992400@redbrangus.org
SUMMARY:The Western National at Cattlemens Congress\, National SOE Show
DESCRIPTION:
URL:https://redbrangus.org/event-calendar/the-western-national-at-cattlemens-congress-national-soe-show/
LOCATION:3011 General Pershingh Oklahoma City\, Oklahoma 73107\, 333 GORDON COOPER ST\, OKLAHOMA CITY\, OK\, 73107\, United States
END:VEVENT
END:VCALENDAR