BEGIN:VCALENDAR
VERSION:2.0
PRODID:-//International Red Brangus Breeders Association - ECPv6.15.15//NONSGML v1.0//EN
CALSCALE:GREGORIAN
METHOD:PUBLISH
X-WR-CALNAME:International Red Brangus Breeders Association
X-ORIGINAL-URL:https://redbrangus.org
X-WR-CALDESC:Events for International Red Brangus Breeders Association
REFRESH-INTERVAL;VALUE=DURATION:PT1H
X-Robots-Tag:noindex
X-PUBLISHED-TTL:PT1H
BEGIN:VTIMEZONE
TZID:America/Chicago
BEGIN:DAYLIGHT
TZOFFSETFROM:-0600
TZOFFSETTO:-0500
TZNAME:CDT
DTSTART:20230312T080000
END:DAYLIGHT
BEGIN:STANDARD
TZOFFSETFROM:-0500
TZOFFSETTO:-0600
TZNAME:CST
DTSTART:20231105T070000
END:STANDARD
BEGIN:DAYLIGHT
TZOFFSETFROM:-0600
TZOFFSETTO:-0500
TZNAME:CDT
DTSTART:20240310T080000
END:DAYLIGHT
BEGIN:STANDARD
TZOFFSETFROM:-0500
TZOFFSETTO:-0600
TZNAME:CST
DTSTART:20241103T070000
END:STANDARD
BEGIN:DAYLIGHT
TZOFFSETFROM:-0600
TZOFFSETTO:-0500
TZNAME:CDT
DTSTART:20250309T080000
END:DAYLIGHT
BEGIN:STANDARD
TZOFFSETFROM:-0500
TZOFFSETTO:-0600
TZNAME:CST
DTSTART:20251102T070000
END:STANDARD
END:VTIMEZONE
BEGIN:VEVENT
DTSTART;VALUE=DATE:20240419
DTEND;VALUE=DATE:20240422
DTSTAMP:20260419T104743
CREATED:20231211T022454Z
LAST-MODIFIED:20231211T022454Z
UID:2790-1713484800-1713743999@redbrangus.org
SUMMARY:IRBBA ANNUAL MEETING\, DIVAS IN RED SALE\, AND IJRBBA FUTURITY
DESCRIPTION:
URL:https://redbrangus.org/event-calendar/irbba-annual-meeting-divas-in-red-sale-and-ijrbba-futurity/
LOCATION:WASHINGTON COUNTY FAIRGROUNDS\, Brenham\, Texas
END:VEVENT
END:VCALENDAR